BEGIN:VCALENDAR
VERSION:1.0
BEGIN:VEVENT
UID:i-event-13519
SUMMARY: Event Duwamish Alive! at Herrings House Park
DESCRIPTION;ENCODING=QUOTED-PRINTABLE:Join us for Duwamish Alive! as we work to improve the health of our only river.  Discover this wonderful little park in the heart of Seattle and help improve this vital habitat for juvenile salmon along the last ancient bend of the river by removing invasive weeds and trash while we plant native plants.  The site is easily accessed with flat paths.  It does have tidal flows so some areas maybe wet that we work in.
LOCATION:Herrings House Park (Tulaltwx)
DTSTART:20181020T100000
DTEND:20181020T140000
END:VEVENT
END:VCALENDAR
