BEGIN:VCALENDAR
VERSION:2.0
METHOD:PUBLISH
PRODID:-//CLC//v1.0//EN
X-WR-TIMEZONE:US/Pacific
CALSCALE:GREGORIAN
BEGIN:VEVENT
UID:-event-14640
DTSTAMP:20181007T100000
DTSTART:20181007T100000
DTEND:20181007T123000
SUMMARY: Event Westcrest Park - Pull Ivy, Pet Puppies
LOCATION:Westcrest Park
ORGANIZER;CN=Christine Deppe
CATEGORIES:Work Party
CLASS:PUBLIC
CONTACT:christinefairmount@gmail.com
END:VEVENT
END:VCALENDAR
