BEGIN:VCALENDAR
VERSION:2.0
METHOD:PUBLISH
PRODID:-//CLC//v1.0//EN
X-WR-TIMEZONE:US/Pacific
CALSCALE:GREGORIAN
BEGIN:VEVENT
UID:-event-14699
DTSTAMP:20190407T080000
DTSTART:20190407T080000
DTEND:20190407T110000
SUMMARY: Event Bird Walk on the Burke-Gilman Trail with Woody Wheeler
LOCATION:Burke-Gilman Trail
ORGANIZER;CN=Jim Corson
CATEGORIES:Work Party
CLASS:PUBLIC
CONTACT:jim.corson@comcast.net
END:VEVENT
END:VCALENDAR
