BEGIN:VCALENDAR
VERSION:2.0
METHOD:PUBLISH
PRODID:-//CLC//v1.0//EN
X-WR-TIMEZONE:US/Pacific
CALSCALE:GREGORIAN
BEGIN:VEVENT
UID:-event-15107
DTSTAMP:20190414T100000
DTSTART:20190414T100000
DTEND:20190414T140000
SUMMARY: Event Martha Washington Park Restoration
LOCATION:Martha Washington Park
ORGANIZER;CN=David Perasso
CATEGORIES:Work Party
CLASS:PUBLIC
CONTACT:perasso@baymoon.com
END:VEVENT
END:VCALENDAR
