BEGIN:VCALENDAR
VERSION:1.0
BEGIN:VEVENT
UID:i-event-15230
SUMMARY: Event Wetlands Restoration and Community Lunch
DESCRIPTION;ENCODING=QUOTED-PRINTABLE:Help create a wetland wonderland at Seattle&#x27;s largest urban farm! Join Tilth Alliance staff, neighbors and a longtime community crew of East African seniors. We&#x27;ll enjoy a healthy and delicious community lunch at noon, so please bring a small donation or a dish to share. Children, youth and families welcome!
LOCATION:Rainier Beach Urban Farm &amp; Wetland
DTSTART:20190412T100000
DTEND:20190412T120000
END:VEVENT
END:VCALENDAR
