BEGIN:VCALENDAR
VERSION:2.0
METHOD:PUBLISH
PRODID:-//CLC//v1.0//EN
X-WR-TIMEZONE:US/Pacific
CALSCALE:GREGORIAN
BEGIN:VEVENT
UID:-event-15889
DTSTAMP:20190412T133000
DTSTART:20190412T133000
DTEND:20190412T153000
SUMMARY: Event Help the forest grow at Me-kwa-mooks
LOCATION:Me-Kwa-Mooks
ORGANIZER;CN=Phillip Osborne
CATEGORIES:Work Party
CLASS:PUBLIC
CONTACT:psocoupeville@gmail.com
END:VEVENT
END:VCALENDAR
