BEGIN:VCALENDAR
VERSION:1.0
BEGIN:VEVENT
UID:i-event-15955
SUMMARY: Event Magnuson Reforestation
DESCRIPTION;ENCODING=QUOTED-PRINTABLE:Help create and improve thriving forest habitat on what was once a denuded and sterile navy airfield..  It will create healthy forest habitat and increase beneficial ecosystem services including provision of human enjoyment and health.  It is also an opportunity to enjoy nature and learn a bit about native plants while doing satisfying work.  Advance approval of leader is required for youth groups or children below high school age
LOCATION:Warren G. Magnuson Park
DTSTART:20190407T093000
DTEND:20190407T123000
END:VEVENT
END:VCALENDAR
