BEGIN:VCALENDAR
VERSION:2.0
METHOD:PUBLISH
PRODID:-//CLC//v1.0//EN
X-WR-TIMEZONE:US/Pacific
CALSCALE:GREGORIAN
BEGIN:VEVENT
UID:-event-16008
DTSTAMP:20190324T090000
DTSTART:20190324T090000
DTEND:20190324T120000
SUMMARY: Event No Snow?! Let&#x27;s Plant! @ Discovery Park
LOCATION:Discovery Park
ORGANIZER;CN=Natasha Lozano
CATEGORIES:Work Party
CLASS:PUBLIC
CONTACT:natasha8lozano@gmail.com
END:VEVENT
END:VCALENDAR
