BEGIN:VCALENDAR
VERSION:1.0
BEGIN:VEVENT
UID:i-event-16109
SUMMARY: Event Celebrate Earth Day with us by helping us weed and log out this section of the Trail
DESCRIPTION;ENCODING=QUOTED-PRINTABLE:We&#x27;ll be weeding this section of the Trail between NE 65th St and NE 70th St
LOCATION:Burke-Gilman Trail
DTSTART:20190420T090000
DTEND:20190420T130000
END:VEVENT
END:VCALENDAR
