BEGIN:VCALENDAR
VERSION:2.0
METHOD:PUBLISH
PRODID:-//CLC//v1.0//EN
X-WR-TIMEZONE:US/Pacific
CALSCALE:GREGORIAN
BEGIN:VEVENT
UID:-event-16625
DTSTAMP:20191102T090000
DTSTART:20191102T090000
DTEND:20191102T120000
SUMMARY: Event Green Seattle Day with SCA at Maple Wood Playfield!
LOCATION:Maple Wood Playfield
ORGANIZER;CN=SCA (SCA)
CATEGORIES:Work Party
CLASS:PUBLIC
CONTACT:ishiach@thesca.org
END:VEVENT
END:VCALENDAR
