BEGIN:VCALENDAR
VERSION:1.0
BEGIN:VEVENT
UID:i-event-16944
SUMMARY: Event Green Lake Work Party
DESCRIPTION;ENCODING=QUOTED-PRINTABLE:We will be pruning, removing invasive plants and planting native ground covers and shrubs in the forested edge of the lake.
LOCATION:Green Lake Park
DTSTART:20191207T090000
DTEND:20191207T120000
END:VEVENT
END:VCALENDAR
