BEGIN:VCALENDAR
VERSION:1.0
BEGIN:VEVENT
UID:i-event-20229
SUMMARY: Event Stewardship Squad
DESCRIPTION;ENCODING=QUOTED-PRINTABLE:Plant the forest of the future!  Add your contribution to a decade of Stewardship Squad work in this forest, planting your own legacy for future generations.
LOCATION:Cheasty Greenspace: Mt View
DTSTART:20211027T110000
DTEND:20211027T140000
END:VEVENT
END:VCALENDAR
