BEGIN:VCALENDAR
VERSION:1.0
BEGIN:VEVENT
UID:i-event-20250
SUMMARY: Event Homeschool Stewardship Squad
DESCRIPTION;ENCODING=QUOTED-PRINTABLE:We welcome Homeschool Stewardship Squad families as we improve wildlife habitat and trail corridors for park users. At this event we will be expanding and enhancing habitat by planting trees, shrubs and ground cover as well as adding mulch.
LOCATION:Northacres Park
DTSTART:20211209T110000
DTEND:20211209T140000
END:VEVENT
END:VCALENDAR
