BEGIN:VCALENDAR
VERSION:2.0
METHOD:PUBLISH
PRODID:-//CLC//v1.0//EN
X-WR-TIMEZONE:US/Pacific
CALSCALE:GREGORIAN
BEGIN:VEVENT
UID:-event-21252
DTSTAMP:20220525T110000
DTSTART:20220525T110000
DTEND:20220525T140000
SUMMARY: Event Stewardship Squad
LOCATION:Cheasty Greenspace: Mt View
ORGANIZER;CN=Cheasty MtView
CATEGORIES:Work Party
CLASS:PUBLIC
CONTACT:adostrovsky@gmail.com
END:VEVENT
END:VCALENDAR
