BEGIN:VCALENDAR
VERSION:1.0
BEGIN:VEVENT
UID:i-event-21724
SUMMARY: Event Join Us at Roxhill Park for Some Duwamish Alive Clean Up and Restoration
DESCRIPTION;ENCODING=QUOTED-PRINTABLE:As part of the Duwamish Alive! event, we&#x27;ll be cleaning up the park and caring for the native plants.  This will involve removing invasive plants to give the native ones room to grow.  Expect to work hard and get dirty!
LOCATION:Roxhill Park
DTSTART:20221015T100000
DTEND:20221015T140000
END:VEVENT
END:VCALENDAR
