BEGIN:VCALENDAR
VERSION:1.0
BEGIN:VEVENT
UID:i-event-21743
SUMMARY: Event Intertwined: Forest and Sea with Sea Potential
DESCRIPTION;ENCODING=QUOTED-PRINTABLE:Join Sea Potential on a beach experience where we explore the interconnectedness of forest and sea. What does support look like between these sentient beings that creates a vibrant and thriving community for you and our non human siblings? We&#x27;ll be answering this question!

**Preferably 6 yrs olds and above, the walk on the beach might not be best for small kids**

This event is part of Seattle Forest Week! Learn more at SeattleForestWeek.org!
LOCATION:Discovery Park
DTSTART:20221022T120000
DTEND:20221022T140000
END:VEVENT
END:VCALENDAR
