BEGIN:VCALENDAR
VERSION:1.0
BEGIN:VEVENT
UID:i-event-21756
SUMMARY: Event Stewardship Squad
DESCRIPTION;ENCODING=QUOTED-PRINTABLE:Stewardship Squad has a decade-long legacy of restoring this important urban greenspace to a rich quality native forest accessible to all Seattlites. It&#x27;s your turn to be part of this amazing project!
LOCATION:Cheasty Greenspace: Mt View
DTSTART:20221026T110000
DTEND:20221026T140000
END:VEVENT
END:VCALENDAR
