BEGIN:VCALENDAR
VERSION:2.0
METHOD:PUBLISH
PRODID:-//CLC//v1.0//EN
X-WR-TIMEZONE:US/Pacific
CALSCALE:GREGORIAN
BEGIN:VEVENT
UID:-event-21918
DTSTAMP:20230116T080000
DTSTART:20230116T080000
DTEND:20230116T113000
SUMMARY: Event MLK Day of Service with Clark Construction
LOCATION:Kingfisher Natural Area on TC
ORGANIZER;CN=Rick Swing
CATEGORIES:Work Party
CLASS:PUBLIC
CONTACT:therickrc@hotmail.com
END:VEVENT
END:VCALENDAR
