BEGIN:VCALENDAR
VERSION:2.0
METHOD:PUBLISH
PRODID:-//CLC//v1.0//EN
X-WR-TIMEZONE:US/Pacific
CALSCALE:GREGORIAN
BEGIN:VEVENT
UID:-event-21988
DTSTAMP:20230116T100000
DTSTART:20230116T100000
DTEND:20230116T140000
SUMMARY: Event MLK Day at Magnuson Park
LOCATION:Warren G. Magnuson Park
ORGANIZER;CN=Tom Kelly
CATEGORIES:Work Party
CLASS:PUBLIC
CONTACT:tpaulkelly@hotmail.com
END:VEVENT
END:VCALENDAR
