BEGIN:VCALENDAR
VERSION:2.0
METHOD:PUBLISH
PRODID:-//CLC//v1.0//EN
X-WR-TIMEZONE:US/Pacific
CALSCALE:GREGORIAN
BEGIN:VEVENT
UID:-event-22022
DTSTAMP:20230116T100000
DTSTART:20230116T100000
DTEND:20230116T140000
SUMMARY: Event MLK day at Mt. Baker park
LOCATION:Mount Baker Park
ORGANIZER;CN=Peter Donahue
CATEGORIES:Work Party
CLASS:PUBLIC
CONTACT:retep1341@gmail.com
END:VEVENT
END:VCALENDAR
