BEGIN:VCALENDAR
VERSION:1.0
BEGIN:VEVENT
UID:i-event-22072
SUMMARY: Event O&#x27; Dea HS--North Genesee Forest Restoration
DESCRIPTION;ENCODING=QUOTED-PRINTABLE:Friends of O&#x27;Dea High School-- We invite you to spend a couple hours getting your hands dirty restoring the Genesee forest.  We&#x27;ll be pulling ivy and digging out blackberry to get ready for Spring Planting.
LOCATION:Genesee Park and Playfield
DTSTART:20230225T093000
DTEND:20230225T123000
END:VEVENT
END:VCALENDAR
