BEGIN:VCALENDAR
VERSION:1.0
BEGIN:VEVENT
UID:i-event-22456
SUMMARY: Event Duwamish Alive! Celebrating Earth Month
DESCRIPTION;ENCODING=QUOTED-PRINTABLE:Make a positive impact on the health of the Duwamish watershed and local wildlife through land stewardship. Herrings House Park is located on the ancestral land of the Duwamish Tribe and fosters critical estuarine habitat where 5 species of juvenile salmon travel from streams to rest, feed, and adapt to salt water in early summer, before they continue their journey out to Elliot Bay. Blue herons, Caspian terns, Osprey and other important wildlife nest and forage near here and can be seen year-round. We will have restoration and clean up activities that are good for all ages, feel free to bring the family!
LOCATION:Herrings House Park (Tulaltwx)
DTSTART:20230415T100000
DTEND:20230415T140000
END:VEVENT
END:VCALENDAR
