BEGIN:VCALENDAR
VERSION:2.0
METHOD:PUBLISH
PRODID:-//CLC//v1.0//EN
X-WR-TIMEZONE:US/Pacific
CALSCALE:GREGORIAN
BEGIN:VEVENT
UID:-event-37522
DTSTAMP:20230722T090000
DTSTART:20230722T090000
DTEND:20230722T120000
SUMMARY: Event Mulch &amp; Mingle with ECOSS
LOCATION:Seward Park
ORGANIZER;CN=Kevin Duong
CATEGORIES:Work Party
CLASS:PUBLIC
CONTACT:kevind@ecoss.org
END:VEVENT
END:VCALENDAR
