BEGIN:VCALENDAR
VERSION:1.0
BEGIN:VEVENT
UID:i-event-37935
SUMMARY: Event St. Mark&#x27;s Greenbelt Fall Colors
DESCRIPTION;ENCODING=QUOTED-PRINTABLE:Enjoy the fall beauty of our native plants as we remove non-native ivy and blackberries that hinder the diversity of our surroundings.
LOCATION:St. Marks Greenbelt
DTSTART:20231028T100000
DTEND:20231028T140000
END:VEVENT
END:VCALENDAR
