BEGIN:VCALENDAR
VERSION:2.0
METHOD:PUBLISH
PRODID:-//CLC//v1.0//EN
X-WR-TIMEZONE:US/Pacific
CALSCALE:GREGORIAN
BEGIN:VEVENT
UID:-event-38421
DTSTAMP:20240107T100000
DTSTART:20240107T100000
DTEND:20240107T140000
SUMMARY: Event Community Reforestation along Thornton creek
LOCATION:Kingfisher Natural Area on TC
ORGANIZER;CN=Rick Swing
CATEGORIES:Work Party
CLASS:PUBLIC
CONTACT:therickrc@hotmail.com
END:VEVENT
END:VCALENDAR
