BEGIN:VCALENDAR
VERSION:1.0
BEGIN:VEVENT
UID:i-event-39291
SUMMARY: Event St. Mark&#x27;s Greenbelt Trees Leaf Out
DESCRIPTION;ENCODING=QUOTED-PRINTABLE:Creating native habitat in the middle of Seattle&#x27;s urban environment.
LOCATION:St. Marks Greenbelt
DTSTART:20240420T100000
DTEND:20240420T140000
END:VEVENT
END:VCALENDAR
