BEGIN:VCALENDAR
VERSION:1.0
BEGIN:VEVENT
UID:i-event-39299
SUMMARY: Event St. Mark&#x27;s Greenbelt New Growth
DESCRIPTION;ENCODING=QUOTED-PRINTABLE:On this 44th Anniversary of the Mt. St. Helen&#x27;s eruption we will contemplate the miracle of Spring and the new life that emerges with its coming.
LOCATION:St. Marks Greenbelt
DTSTART:20240518T100000
DTEND:20240518T140000
END:VEVENT
END:VCALENDAR
