BEGIN:VCALENDAR
VERSION:1.0
BEGIN:VEVENT
UID:i-event-39300
SUMMARY: Event St. Mark&#x27;s Greenbelt Spring&#x27;s Pride
DESCRIPTION;ENCODING=QUOTED-PRINTABLE:Spring is in full force in June.  Come out and help us maintain a sacred space that is here for all to enjoy.
LOCATION:St. Marks Greenbelt
DTSTART:20240601T100000
DTEND:20240601T140000
END:VEVENT
END:VCALENDAR
