BEGIN:VCALENDAR
VERSION:1.0
BEGIN:VEVENT
UID:i-event-39555
SUMMARY: Event Restoration and Wildlife at Lincoln
DESCRIPTION;ENCODING=QUOTED-PRINTABLE:Join us as we work to restore our urban forests and learn about the amazing and diverse wildlife at the Park. We will be removing invasive species like ivy and blackberry and making room for our hardworking native plants and trees. AND as a special treat, the awesome naturalist, Ed Dominguez will share his knowledge of birds and urban wildlife. We promise good nature vibes and high fives!
LOCATION:Lincoln Park
DTSTART:20240602T100000
DTEND:20240602T120000
END:VEVENT
END:VCALENDAR
