BEGIN:VCALENDAR
VERSION:2.0
METHOD:PUBLISH
PRODID:-//CLC//v1.0//EN
X-WR-TIMEZONE:US/Pacific
CALSCALE:GREGORIAN
BEGIN:VEVENT
UID:-event-40106
DTSTAMP:20240911T090000
DTSTART:20240911T090000
DTEND:20240911T130000
SUMMARY: Event Clearing, Planting, Watering &amp; Mulching
LOCATION:Lake Washington Boulevard
ORGANIZER;CN=Nancy Callery
CATEGORIES:Work Party
CLASS:PUBLIC
CONTACT:ncallery@icloud.com
END:VEVENT
END:VCALENDAR
