BEGIN:VCALENDAR
VERSION:1.0
BEGIN:VEVENT
UID:i-event-41169
SUMMARY: Event Community Planting Day at Lincoln Park
DESCRIPTION;ENCODING=QUOTED-PRINTABLE:IT&#x27;S PLANTING TIME! March marks the end of planting season and we&#x27;ll be installing native bare root plants and trees in a beautiful area of urban forest in the Park. We promise you lots of good nature vibes and high fives. Please be sure that all volunteers, including youth are registered!  (Bare Root Planting 101 Video: https://youtu.be/i_UDQxjwuxk?si=J5w-zL2vS0EUv9EG)
LOCATION:Lincoln Park
DTSTART:20250301T100000
DTEND:20250301T120000
END:VEVENT
END:VCALENDAR
