BEGIN:VCALENDAR
VERSION:1.0
BEGIN:VEVENT
UID:i-event-42018
SUMMARY: Event Pollinator Patch - Weeding
DESCRIPTION;ENCODING=QUOTED-PRINTABLE:Pollinator Patch - Weeding for a better tomorrow. Stop and smell the flowers. 
We&#x27;ll be preforming some general weeding to make way for additional pollinator plants tp be planted in the fall.
LOCATION:Burke-Gilman Trail
DTSTART:20250718T083000
DTEND:20250718T120000
END:VEVENT
END:VCALENDAR
