BEGIN:VCALENDAR
VERSION:2.0
METHOD:PUBLISH
PRODID:-//CLC//v1.0//EN
X-WR-TIMEZONE:US/Pacific
CALSCALE:GREGORIAN
BEGIN:VEVENT
UID:-event-42162
DTSTAMP:20250913T100000
DTSTART:20250913T100000
DTEND:20250913T130000
SUMMARY: Event Fallin&#x27; for Fungi Work Party at Westcrest Park
LOCATION:Westcrest Park
ORGANIZER;CN=Dirt Corps
CATEGORIES:Work Party
CLASS:PUBLIC
CONTACT:community@thedirtcorps.com
END:VEVENT
END:VCALENDAR
