BEGIN:VCALENDAR
VERSION:1.0
BEGIN:VEVENT
UID:i-event-43029
SUMMARY: Event North Genesee Forest Restoration
DESCRIPTION;ENCODING=QUOTED-PRINTABLE:Celebrate the arrival of Spring a morning with friends and neighbors in the fresh air of Genesee forest as begin to get plants ready for the heat of summer. We&#x27;ll be pulling some English Ivy in previously cleared areas and snugging baby plants with nourishing mulch.  Bring the kids, of course--all ages are welcome!
LOCATION:Genesee Park and Playfield
DTSTART:20260328T100000
DTEND:20260328T123000
END:VEVENT
END:VCALENDAR
