BEGIN:VCALENDAR
VERSION:1.0
BEGIN:VEVENT
UID:i-event-43491
SUMMARY: Event Friends of Discovery Park at Capehart
DESCRIPTION;ENCODING=QUOTED-PRINTABLE:Capehart Forest is the most wildlife-safe area in Discovery Park. Come help us increase its biodiversity by weeding out invasives, mulching and aerate the soil to encourage symbiotic fungi, and plant this years native shrubs and groundcovers.
LOCATION:Discovery Park
DTSTART:20260321T100000
DTEND:20260321T130000
END:VEVENT
END:VCALENDAR
