BEGIN:VCALENDAR
VERSION:2.0
METHOD:PUBLISH
PRODID:-//CLC//v1.0//EN
X-WR-TIMEZONE:US/Pacific
CALSCALE:GREGORIAN
BEGIN:VEVENT
UID:-event-43574
DTSTAMP:20260411T100000
DTSTART:20260411T100000
DTEND:20260411T130000
SUMMARY: Event Earth Month Celebration at Westcrest Park
LOCATION:Westcrest Park
ORGANIZER;CN=Dirt Corps
CATEGORIES:Work Party
CLASS:PUBLIC
CONTACT:community@thedirtcorps.com
END:VEVENT
END:VCALENDAR
