BEGIN:VCALENDAR
VERSION:2.0
METHOD:PUBLISH
PRODID:-//CLC//v1.0//EN
X-WR-TIMEZONE:US/Pacific
CALSCALE:GREGORIAN
BEGIN:VEVENT
UID:-event-43581
DTSTAMP:20260411T090000
DTSTART:20260411T090000
DTEND:20260411T130000
SUMMARY: Event Heron Habitat Helpers - Help us restore Kiwanis Ravine!
LOCATION:Kiwanis Memorial Preserve Park
ORGANIZER;CN=Marla Master
CATEGORIES:Work Party
CLASS:PUBLIC
CONTACT:membership@heronhelpers.org
END:VEVENT
END:VCALENDAR
