BEGIN:VCALENDAR
VERSION:1.0
BEGIN:VEVENT
UID:i-event-43635
SUMMARY: Event Orchard Street Ravine Work Event
DESCRIPTION;ENCODING=QUOTED-PRINTABLE:Join other enthusiastic volunteers for a fun morning restoring and preserving our native forest.
LOCATION:Orchard Street Ravine
DTSTART:20260411T100000
DTEND:20260411T130000
END:VEVENT
END:VCALENDAR
