BEGIN:VCALENDAR
VERSION:1.0
BEGIN:VEVENT
UID:i-event-43636
SUMMARY: Event Pulling ivy with A Cleaner Alki
DESCRIPTION;ENCODING=QUOTED-PRINTABLE:Celebrate the first day of spring by helping the community group, A Cleaner Alki, remove ivy to make room for native plants that will support birds, insects, salamanders and other wildlife 🦅 
We will be in a gorgeous area of the woods surrounded by ancient trees.
LOCATION:Schmitz Preserve Park
DTSTART:20260320T093000
DTEND:20260320T113000
END:VEVENT
END:VCALENDAR
