BEGIN:VCALENDAR
VERSION:1.0
BEGIN:VEVENT
UID:i-event-43638
SUMMARY: Event More weeding in our Pollinator Patch
DESCRIPTION;ENCODING=QUOTED-PRINTABLE:Moore weeding to be done in our Pollinator Patch
LOCATION:Burke-Gilman Trail
DTSTART:20260320T090000
DTEND:20260320T123000
END:VEVENT
END:VCALENDAR
