BEGIN:VCALENDAR
VERSION:1.0
BEGIN:VEVENT
UID:i-event-43639
SUMMARY: Event Weeding fun in the Pollinator Patch
DESCRIPTION;ENCODING=QUOTED-PRINTABLE:We&#x27;ll continue our weeding operation on the other side of the B-G Trail in our Pollinator Patch
LOCATION:Burke-Gilman Trail
DTSTART:20260323T090000
DTEND:20260323T123000
END:VEVENT
END:VCALENDAR
