BEGIN:VCALENDAR
VERSION:2.0
METHOD:PUBLISH
PRODID:-//CLC//v1.0//EN
X-WR-TIMEZONE:US/Pacific
CALSCALE:GREGORIAN
BEGIN:VEVENT
UID:-event-43642
DTSTAMP:20260418T100000
DTSTART:20260418T100000
DTEND:20260418T140000
SUMMARY: Event Duwamish Alive!   Celebrating Seattle&#x27;s River
LOCATION:Herrings House Park (Tulaltwx)
ORGANIZER;CN=Sharon Leishman
CATEGORIES:Work Party
CLASS:PUBLIC
CONTACT:s.leishman@comcast.net
END:VEVENT
END:VCALENDAR
