BEGIN:VCALENDAR
VERSION:1.0
BEGIN:VEVENT
UID:i-event-43666
SUMMARY: Event Pulling ivy with Schmitz Park Restore in West Seattle
DESCRIPTION;ENCODING=QUOTED-PRINTABLE:Help the community group, Schmitz Park Restore, remove ivy and blackberry to make room for native plants that will support birds, salamanders, insects and other wildlife 🦅
LOCATION:Schmitz Preserve Park
DTSTART:20260411T100000
DTEND:20260411T120000
END:VEVENT
END:VCALENDAR
