BEGIN:VCALENDAR
VERSION:1.0
BEGIN:VEVENT
UID:i-event-43832
SUMMARY: Event Pulling ivy with A Cleaner Alki
DESCRIPTION;ENCODING=QUOTED-PRINTABLE:Help the community group, A Cleaner Alki, remove ivy to make room for native plants that support birds, salamanders, insects and other wildlife 🦅
LOCATION:Schmitz Preserve Park
DTSTART:20260424T093000
DTEND:20260424T113000
END:VEVENT
END:VCALENDAR
