BEGIN:VCALENDAR
VERSION:1.0
BEGIN:VEVENT
UID:i-event-43833
SUMMARY: Event Peppi&#x27;s Woods Mulching and Watering
DESCRIPTION;ENCODING=QUOTED-PRINTABLE:Mulching and Watering (if needed) at Peppi&#x27;s. We&#x27;ll add a final layer of mulch to some thin areas in the forest, and start watering, if weather has been dry. We also may do some trail marking and ivy/blackberry removal.
LOCATION:Peppi&#x27;s Playground
DTSTART:20260503T100000
DTEND:20260503T123000
END:VEVENT
END:VCALENDAR
