BEGIN:VCALENDAR
VERSION:1.0
BEGIN:VEVENT
UID:i-event-43835
SUMMARY: Event HAVE FUN, GET FIT
DESCRIPTION;ENCODING=QUOTED-PRINTABLE:Removing invasive plants, mulching with woodchips all year. Planting in the Fall,
LOCATION:Licton Springs Park
DTSTART:20260613T100000
DTEND:20260613T130000
END:VEVENT
END:VCALENDAR
