BEGIN:VCALENDAR
VERSION:1.0
BEGIN:VEVENT
UID:i-event-43837
SUMMARY: Event Spring Cleanup near the Frog Pond
DESCRIPTION;ENCODING=QUOTED-PRINTABLE:Help us maintain the recently planted native vegetation. We will be mainly focusing on removing new bindweed starts that are waking up and trying to get a foothold in the area.
LOCATION:Green Lake Park
DTSTART:20260418T100000
DTEND:20260418T130000
END:VEVENT
END:VCALENDAR
