BEGIN:VCALENDAR
VERSION:1.0
BEGIN:VEVENT
UID:i-event-43838
SUMMARY: Event HAVE FUN, GET FIT
DESCRIPTION;ENCODING=QUOTED-PRINTABLE:Removing invasive plants and spreading woodchips.  In the Fall we plant.
LOCATION:Licton Springs Park
DTSTART:20260912T100000
DTEND:20260912T130000
END:VEVENT
END:VCALENDAR
