BEGIN:VCALENDAR
VERSION:1.0
BEGIN:VEVENT
UID:i-event-43841
SUMMARY: Event Ivy pulling with Schmitz Park Restore
DESCRIPTION;ENCODING=QUOTED-PRINTABLE:Help the community group, Schmitz Park Restore, remove ivy to make space for native plants that support birds, salamanders, insects and other wildlife 🦅
LOCATION:Schmitz Preserve Park
DTSTART:20260509T100000
DTEND:20260509T120000
END:VEVENT
END:VCALENDAR
