BEGIN:VCALENDAR
VERSION:2.0
METHOD:PUBLISH
PRODID:-//CLC//v1.0//EN
X-WR-TIMEZONE:US/Pacific
CALSCALE:GREGORIAN
BEGIN:VEVENT
UID:-event-43845
DTSTAMP:20260509T090000
DTSTART:20260509T090000
DTEND:20260509T120000
SUMMARY: Event Fairview Park Rewilding
LOCATION:Fairview Park
ORGANIZER;CN=Kevin Sun
CATEGORIES:Work Party
CLASS:PUBLIC
CONTACT:kaysun33@gmail.com
END:VEVENT
END:VCALENDAR
